BEGIN:VCALENDAR
VERSION:2.0
PRODID:-//イルチブレインヨガ石橋スタジオ - ECPv6.15.20//NONSGML v1.0//EN
CALSCALE:GREGORIAN
METHOD:PUBLISH
X-WR-CALNAME:イルチブレインヨガ石橋スタジオ
X-ORIGINAL-URL:https://ilchibrainyoga-ishibashi.com
X-WR-CALDESC:イルチブレインヨガ石橋スタジオ のイベント
REFRESH-INTERVAL;VALUE=DURATION:PT1H
X-Robots-Tag:noindex
X-PUBLISHED-TTL:PT1H
BEGIN:VTIMEZONE
TZID:Asia/Tokyo
BEGIN:STANDARD
TZOFFSETFROM:+0900
TZOFFSETTO:+0900
TZNAME:JST
DTSTART:20250101T000000
END:STANDARD
END:VTIMEZONE
BEGIN:VEVENT
DTSTART;TZID=Asia/Tokyo:20260106T100000
DTEND;TZID=Asia/Tokyo:20260111T210000
DTSTAMP:20260423T014406
CREATED:20251223T070932Z
LAST-MODIFIED:20251223T070932Z
UID:5398-1767693600-1768165200@ilchibrainyoga-ishibashi.com
SUMMARY:ペアでお得な体験会
DESCRIPTION:カラダ、ココロ、脳を同時に整えることができる！\nイルチブレインヨガの70分ベーシッククラスの体験を\nぺアお二人で体験される場合\nおひとり様、通常1000円のところ\n2026年1月11日まで期間限定で、50パーセントOFFのおひとり様500円で体験できます！\n気になっていたという方、\nご家族、お友達とぜひ体験にいらしてくださいませ！ \n開催日時：1月6日(火)～11日(火)\n時間：10時、14時、19時\n※所要時間は約2時間\n会場名：イルチブレインヨガ石橋スタジオ\n会場住所：大阪府池田市石橋2-2-10　マキノビル2階\n参加費：ペアで1000円\nトレーナー：菊地靖子\n持ち物：動きやすい服装、タオル\n問合せ電話：072-762-7507 \n\nLINEからのお申し込みはこちら⇒https://lin.ee/aObW5QQ \n\n\n  \n\n\n\n\n\n \n体験ご希望日時\n		(必須)　※ご注意：月曜日は定休日です\n		\n \n—以下から選択してください—10111213141516171819時 —以下から選択してください—001020304050分 ～ のクラス\n \nお名前\n		 (必須)\n		\n \n\n \nメールアドレス\n		 (必須)\n		\n \n\n \nお電話番号（携帯可）\n		 (必須)\n		\n \n\n \nこちらのスタジオを何でお知りになりましたか？\n		 (必須)\n		\n \nチラシ看板書籍雑誌紹介Yahoo検索Google検索口コミその他Webサイト\n \nご関心があること、習得したいこと（複数可）\n \n自然治癒力アップ集中力アップダイエット体質改善ストレス緩和丹田強化呼吸法瞑想法リラックス運動不足解消姿勢がよくなりたいその他（備考欄にご記入ください）\n \n備考欄\n \n\n \n\n\n \n\n Δ \n\n\n\n株式会社DAHN WORLD JAPAN　ダンワールドジャパン
URL:https://ilchibrainyoga-ishibashi.com/event/ishibashi-62/
LOCATION:イルチブレインヨガ石橋スタジオ\, 大阪府池田市石橋 2丁目 2-10\, 牧野ビル2F\, 日本
CATEGORIES:体験会
ATTACH;FMTTYPE=image/jpeg:https://ilchibrainyoga-ishibashi.com/wp-content/uploads/2025/12/1119057_s.jpg
END:VEVENT
BEGIN:VEVENT
DTSTART;TZID=Asia/Tokyo:20260107T100000
DTEND;TZID=Asia/Tokyo:20260107T120000
DTSTAMP:20260423T014406
CREATED:20251223T072059Z
LAST-MODIFIED:20251231T070342Z
UID:5412-1767780000-1767787200@ilchibrainyoga-ishibashi.com
SUMMARY:お茶瞑想体験会
DESCRIPTION:お茶瞑想体験会を開催します。トレーニングで体をほぐした後にお茶をいただくと、お茶の香りが、\n脳に、身体中にと行き渡り、五感を超えた感覚が目覚めリラックス出来ます。\n体験された方からは、\n初めて味わう感覚で心と体がふわっと和む\n呼吸が深くなり、自然と安心感が満ちる。\n内側から整う感覚が分かりやすい。\nとご好評いただいています。\n一年のスタートに体と心を整う時間作ってみませんか？ \n開催日時：1月7日(水)10時～17日(土)14時～\n※所要時間は約2時間\n会場名：イルチブレインヨガ石橋スタジオ\n会場住所：大阪府池田市石橋2-2-10　マキノビル2階\n参加費：1000円\nトレーナー：山下美佐子\n持ち物：動きやすい服装、タオル\n問合せ電話：072-762-7507 \n\nLINEからのお申し込みはこちら⇒https://lin.ee/aObW5QQ \n\n\n  \n\n\n\n\n\n \n体験ご希望日時\n		(必須)　※ご注意：月曜日は定休日です\n		\n \n—以下から選択してください—10111213141516171819時 —以下から選択してください—001020304050分 ～ のクラス\n \nお名前\n		 (必須)\n		\n \n\n \nメールアドレス\n		 (必須)\n		\n \n\n \nお電話番号（携帯可）\n		 (必須)\n		\n \n\n \nこちらのスタジオを何でお知りになりましたか？\n		 (必須)\n		\n \nチラシ看板書籍雑誌紹介Yahoo検索Google検索口コミその他Webサイト\n \nご関心があること、習得したいこと（複数可）\n \n自然治癒力アップ集中力アップダイエット体質改善ストレス緩和丹田強化呼吸法瞑想法リラックス運動不足解消姿勢がよくなりたいその他（備考欄にご記入ください）\n \n備考欄\n \n\n \n\n\n \n\n Δ \n\n\n\n株式会社DAHN WORLD JAPAN　ダンワールドジャパン
URL:https://ilchibrainyoga-ishibashi.com/event/ishibashi-68/
LOCATION:イルチブレインヨガ石橋スタジオ\, 大阪府池田市石橋 2丁目 2-10\, 牧野ビル2F\, 日本
CATEGORIES:体験会
ATTACH;FMTTYPE=image/jpeg:https://ilchibrainyoga-ishibashi.com/wp-content/uploads/2025/12/7c0fcaf335a5540ab94fc35c26557191.jpg
END:VEVENT
BEGIN:VEVENT
DTSTART;TZID=Asia/Tokyo:20260107T190000
DTEND;TZID=Asia/Tokyo:20260107T210000
DTSTAMP:20260423T014406
CREATED:20251223T062843Z
LAST-MODIFIED:20251223T062843Z
UID:5391-1767812400-1767819600@ilchibrainyoga-ishibashi.com
SUMMARY:お一人限定！チャクラを知って整えるプチヨガ
DESCRIPTION:チャクラを知って整えるプチヨガ体験会。パワーストーンをプレゼント！\n開催日時：\n1月7日(水)、22日(木)　19時\n18日(日)：14時　\n※他の日程希望の方は相談可\n※所要時間は約2時間（全て含む）\n会場名：イルチブレインヨガ石橋スタジオ\n会場住所：大阪府池田市石橋2-2-10　マキノビル2階\n参加費：1\,500円　\n持ち物：動きやすい服装、タオル\nトレーナー：宗清有樹子\n問合せ電話：072-762-7507 \n\nLINEからのお申し込みはこちら⇒https://lin.ee/aObW5QQ \n\n\n  \n\n\n\n\n\n \n体験ご希望日時\n		(必須)　※ご注意：月曜日は定休日です\n		\n \n—以下から選択してください—10111213141516171819時 —以下から選択してください—001020304050分 ～ のクラス\n \nお名前\n		 (必須)\n		\n \n\n \nメールアドレス\n		 (必須)\n		\n \n\n \nお電話番号（携帯可）\n		 (必須)\n		\n \n\n \nこちらのスタジオを何でお知りになりましたか？\n		 (必須)\n		\n \nチラシ看板書籍雑誌紹介Yahoo検索Google検索口コミその他Webサイト\n \nご関心があること、習得したいこと（複数可）\n \n自然治癒力アップ集中力アップダイエット体質改善ストレス緩和丹田強化呼吸法瞑想法リラックス運動不足解消姿勢がよくなりたいその他（備考欄にご記入ください）\n \n備考欄\n \n\n \n\n\n \n\n Δ \n\n\n\n株式会社DAHN WORLD JAPAN　ダンワールドジャパン
URL:https://ilchibrainyoga-ishibashi.com/event/ishibashi-59/
LOCATION:イルチブレインヨガ石橋スタジオ\, 大阪府池田市石橋 2丁目 2-10\, 牧野ビル2F\, 日本
CATEGORIES:体験会
ATTACH;FMTTYPE=image/jpeg:https://ilchibrainyoga-ishibashi.com/wp-content/uploads/2025/12/486d901b69a5fe6560fdd8084bce9f6f.jpg
END:VEVENT
BEGIN:VEVENT
DTSTART;TZID=Asia/Tokyo:20260115T100000
DTEND;TZID=Asia/Tokyo:20260115T210000
DTSTAMP:20260423T014406
CREATED:20251231T071604Z
LAST-MODIFIED:20251231T071604Z
UID:5420-1768471200-1768510800@ilchibrainyoga-ishibashi.com
SUMMARY:マインドセット肯定と感謝の実施法WS
DESCRIPTION:運動と瞑想を通して、絶対肯定をそだてる体験をします。\n※こんな方におすすめ※\n瞑想迷子になっている方\n脳が休まらない、常に考えている方。\nすぐ寝付けない方。\n人の目が気になる方\n※体験された方にもれなく「ブレインフォンをオンにする」新刊プレゼント。 \n開催日時：1月15日(木)、20日(火)、21日(水)\n時間：10時、14時、19時\n※所要時間は約2時間\n会場名：イルチブレインヨガ石橋スタジオ\n会場住所：大阪府池田市石橋2-2-10　マキノビル2階\n参加費：2\,000円\nトレーナー：山下美佐子・菊地靖子\nその他：持ち物、動きやすい服装、タオル\n問合せ電話：072-762-7507 \n\nLINEからのお申し込みはこちら⇒https://lin.ee/aObW5QQ \n\n\n  \n\n\n\n\n\n \n体験ご希望日時\n		(必須)　※ご注意：月曜日は定休日です\n		\n \n—以下から選択してください—10111213141516171819時 —以下から選択してください—001020304050分 ～ のクラス\n \nお名前\n		 (必須)\n		\n \n\n \nメールアドレス\n		 (必須)\n		\n \n\n \nお電話番号（携帯可）\n		 (必須)\n		\n \n\n \nこちらのスタジオを何でお知りになりましたか？\n		 (必須)\n		\n \nチラシ看板書籍雑誌紹介Yahoo検索Google検索口コミその他Webサイト\n \nご関心があること、習得したいこと（複数可）\n \n自然治癒力アップ集中力アップダイエット体質改善ストレス緩和丹田強化呼吸法瞑想法リラックス運動不足解消姿勢がよくなりたいその他（備考欄にご記入ください）\n \n備考欄\n \n\n \n\n\n \n\n Δ \n\n\n\n株式会社DAHN WORLD JAPAN　ダンワールドジャパン
URL:https://ilchibrainyoga-ishibashi.com/event/ishibashi-63/
LOCATION:イルチブレインヨガ石橋スタジオ\, 大阪府池田市石橋 2丁目 2-10\, 牧野ビル2F\, 日本
CATEGORIES:体験会
ATTACH;FMTTYPE=image/jpeg:https://ilchibrainyoga-ishibashi.com/wp-content/uploads/2025/10/1c6de5ca016e8681f70b727fc8467c90.jpg
END:VEVENT
BEGIN:VEVENT
DTSTART;TZID=Asia/Tokyo:20260117T140000
DTEND;TZID=Asia/Tokyo:20260117T160000
DTSTAMP:20260423T014406
CREATED:20251223T072015Z
LAST-MODIFIED:20251231T070301Z
UID:5409-1768658400-1768665600@ilchibrainyoga-ishibashi.com
SUMMARY:お茶瞑想体験会
DESCRIPTION:お茶瞑想体験会を開催します。トレーニングで体をほぐした後にお茶をいただくと、お茶の香りが、\n脳に、身体中にと行き渡り、五感を超えた感覚が目覚めリラックス出来ます。\n体験された方からは、\n初めて味わう感覚で心と体がふわっと和む\n呼吸が深くなり、自然と安心感が満ちる。\n内側から整う感覚が分かりやすい。\nとご好評いただいています。\n一年のスタートに体と心を整う時間作ってみませんか？ \n開催日時：1月17日(土)14時～\n※所要時間は約2時間\n会場名：イルチブレインヨガ石橋スタジオ\n会場住所：大阪府池田市石橋2-2-10　マキノビル2階\n参加費：1000円\nトレーナー：山下美佐子\n持ち物：動きやすい服装、タオル\n問合せ電話：072-762-7507 \n\nLINEからのお申し込みはこちら⇒https://lin.ee/aObW5QQ \n\n\n  \n\n\n\n\n\n \n体験ご希望日時\n		(必須)　※ご注意：月曜日は定休日です\n		\n \n—以下から選択してください—10111213141516171819時 —以下から選択してください—001020304050分 ～ のクラス\n \nお名前\n		 (必須)\n		\n \n\n \nメールアドレス\n		 (必須)\n		\n \n\n \nお電話番号（携帯可）\n		 (必須)\n		\n \n\n \nこちらのスタジオを何でお知りになりましたか？\n		 (必須)\n		\n \nチラシ看板書籍雑誌紹介Yahoo検索Google検索口コミその他Webサイト\n \nご関心があること、習得したいこと（複数可）\n \n自然治癒力アップ集中力アップダイエット体質改善ストレス緩和丹田強化呼吸法瞑想法リラックス運動不足解消姿勢がよくなりたいその他（備考欄にご記入ください）\n \n備考欄\n \n\n \n\n\n \n\n Δ \n\n\n\n株式会社DAHN WORLD JAPAN　ダンワールドジャパン
URL:https://ilchibrainyoga-ishibashi.com/event/ishibashi-67/
LOCATION:イルチブレインヨガ石橋スタジオ\, 大阪府池田市石橋 2丁目 2-10\, 牧野ビル2F\, 日本
CATEGORIES:体験会
ATTACH;FMTTYPE=image/jpeg:https://ilchibrainyoga-ishibashi.com/wp-content/uploads/2025/12/7c0fcaf335a5540ab94fc35c26557191.jpg
END:VEVENT
BEGIN:VEVENT
DTSTART;TZID=Asia/Tokyo:20260118T140000
DTEND;TZID=Asia/Tokyo:20260118T160000
DTSTAMP:20260423T014406
CREATED:20251223T062926Z
LAST-MODIFIED:20251223T062926Z
UID:5394-1768744800-1768752000@ilchibrainyoga-ishibashi.com
SUMMARY:お一人限定！チャクラを知って整えるプチヨガ
DESCRIPTION:チャクラを知って整えるプチヨガ体験会。パワーストーンをプレゼント！\n開催日時：\n1月22日(木)　19時\n18日(日)：14時　\n※他の日程希望の方は相談可\n※所要時間は約2時間（全て含む）\n会場名：イルチブレインヨガ石橋スタジオ\n会場住所：大阪府池田市石橋2-2-10　マキノビル2階\n参加費：1\,500円　\n持ち物：動きやすい服装、タオル\nトレーナー：宗清有樹子\n問合せ電話：072-762-7507 \n\nLINEからのお申し込みはこちら⇒https://lin.ee/aObW5QQ \n\n\n  \n\n\n\n\n\n \n体験ご希望日時\n		(必須)　※ご注意：月曜日は定休日です\n		\n \n—以下から選択してください—10111213141516171819時 —以下から選択してください—001020304050分 ～ のクラス\n \nお名前\n		 (必須)\n		\n \n\n \nメールアドレス\n		 (必須)\n		\n \n\n \nお電話番号（携帯可）\n		 (必須)\n		\n \n\n \nこちらのスタジオを何でお知りになりましたか？\n		 (必須)\n		\n \nチラシ看板書籍雑誌紹介Yahoo検索Google検索口コミその他Webサイト\n \nご関心があること、習得したいこと（複数可）\n \n自然治癒力アップ集中力アップダイエット体質改善ストレス緩和丹田強化呼吸法瞑想法リラックス運動不足解消姿勢がよくなりたいその他（備考欄にご記入ください）\n \n備考欄\n \n\n \n\n\n \n\n Δ \n\n\n\n株式会社DAHN WORLD JAPAN　ダンワールドジャパン
URL:https://ilchibrainyoga-ishibashi.com/event/ishibashi-60/
LOCATION:イルチブレインヨガ石橋スタジオ\, 大阪府池田市石橋 2丁目 2-10\, 牧野ビル2F\, 日本
CATEGORIES:体験会
ATTACH;FMTTYPE=image/jpeg:https://ilchibrainyoga-ishibashi.com/wp-content/uploads/2025/12/486d901b69a5fe6560fdd8084bce9f6f.jpg
END:VEVENT
BEGIN:VEVENT
DTSTART;TZID=Asia/Tokyo:20260120T100000
DTEND;TZID=Asia/Tokyo:20260121T210000
DTSTAMP:20260423T014406
CREATED:20251231T071707Z
LAST-MODIFIED:20251231T071707Z
UID:5422-1768903200-1769029200@ilchibrainyoga-ishibashi.com
SUMMARY:マインドセット肯定と感謝の実施法WS
DESCRIPTION:運動と瞑想を通して、絶対肯定をそだてる体験をします。\n※こんな方におすすめ※\n瞑想迷子になっている方\n脳が休まらない、常に考えている方。\nすぐ寝付けない方。\n人の目が気になる方\n※体験された方にもれなく「ブレインフォンをオンにする」新刊プレゼント。 \n開催日時：1月20日(火)、21日(水)\n時間：10時、14時、19時\n※所要時間は約2時間\n会場名：イルチブレインヨガ石橋スタジオ\n会場住所：大阪府池田市石橋2-2-10　マキノビル2階\n参加費：2\,000円\nトレーナー：山下美佐子・菊地靖子\nその他：持ち物、動きやすい服装、タオル\n問合せ電話：072-762-7507 \n\nLINEからのお申し込みはこちら⇒https://lin.ee/aObW5QQ \n\n\n  \n\n\n\n\n\n \n体験ご希望日時\n		(必須)　※ご注意：月曜日は定休日です\n		\n \n—以下から選択してください—10111213141516171819時 —以下から選択してください—001020304050分 ～ のクラス\n \nお名前\n		 (必須)\n		\n \n\n \nメールアドレス\n		 (必須)\n		\n \n\n \nお電話番号（携帯可）\n		 (必須)\n		\n \n\n \nこちらのスタジオを何でお知りになりましたか？\n		 (必須)\n		\n \nチラシ看板書籍雑誌紹介Yahoo検索Google検索口コミその他Webサイト\n \nご関心があること、習得したいこと（複数可）\n \n自然治癒力アップ集中力アップダイエット体質改善ストレス緩和丹田強化呼吸法瞑想法リラックス運動不足解消姿勢がよくなりたいその他（備考欄にご記入ください）\n \n備考欄\n \n\n \n\n\n \n\n Δ \n\n\n\n株式会社DAHN WORLD JAPAN　ダンワールドジャパン
URL:https://ilchibrainyoga-ishibashi.com/event/ishibashi-64/
LOCATION:イルチブレインヨガ石橋スタジオ\, 大阪府池田市石橋 2丁目 2-10\, 牧野ビル2F\, 日本
CATEGORIES:体験会
ATTACH;FMTTYPE=image/jpeg:https://ilchibrainyoga-ishibashi.com/wp-content/uploads/2025/10/1c6de5ca016e8681f70b727fc8467c90.jpg
END:VEVENT
BEGIN:VEVENT
DTSTART;TZID=Asia/Tokyo:20260122T190000
DTEND;TZID=Asia/Tokyo:20260122T210000
DTSTAMP:20260423T014406
CREATED:20251223T070226Z
LAST-MODIFIED:20251223T070226Z
UID:5396-1769108400-1769115600@ilchibrainyoga-ishibashi.com
SUMMARY:お一人限定！チャクラを知って整えるプチヨガ
DESCRIPTION:チャクラを知って整えるプチヨガ体験会。パワーストーンをプレゼント！\n開催日時：\n1月22日(木)　19時　\n※他の日程希望の方は相談可\n※所要時間は約2時間（全て含む）\n会場名：イルチブレインヨガ石橋スタジオ\n会場住所：大阪府池田市石橋2-2-10　マキノビル2階\n参加費：1\,500円　\n持ち物：動きやすい服装、タオル\nトレーナー：宗清有樹子\n問合せ電話：072-762-7507 \n\nLINEからのお申し込みはこちら⇒https://lin.ee/aObW5QQ \n\n\n  \n\n\n\n\n\n \n体験ご希望日時\n		(必須)　※ご注意：月曜日は定休日です\n		\n \n—以下から選択してください—10111213141516171819時 —以下から選択してください—001020304050分 ～ のクラス\n \nお名前\n		 (必須)\n		\n \n\n \nメールアドレス\n		 (必須)\n		\n \n\n \nお電話番号（携帯可）\n		 (必須)\n		\n \n\n \nこちらのスタジオを何でお知りになりましたか？\n		 (必須)\n		\n \nチラシ看板書籍雑誌紹介Yahoo検索Google検索口コミその他Webサイト\n \nご関心があること、習得したいこと（複数可）\n \n自然治癒力アップ集中力アップダイエット体質改善ストレス緩和丹田強化呼吸法瞑想法リラックス運動不足解消姿勢がよくなりたいその他（備考欄にご記入ください）\n \n備考欄\n \n\n \n\n\n \n\n Δ \n\n\n\n株式会社DAHN WORLD JAPAN　ダンワールドジャパン
URL:https://ilchibrainyoga-ishibashi.com/event/ishibashi-61/
LOCATION:イルチブレインヨガ石橋スタジオ\, 大阪府池田市石橋 2丁目 2-10\, 牧野ビル2F\, 日本
CATEGORIES:体験会
ATTACH;FMTTYPE=image/jpeg:https://ilchibrainyoga-ishibashi.com/wp-content/uploads/2025/12/486d901b69a5fe6560fdd8084bce9f6f.jpg
END:VEVENT
BEGIN:VEVENT
DTSTART;TZID=Asia/Tokyo:20260128T100000
DTEND;TZID=Asia/Tokyo:20260128T210000
DTSTAMP:20260423T014406
CREATED:20251223T071658Z
LAST-MODIFIED:20251223T071658Z
UID:5405-1769594400-1769634000@ilchibrainyoga-ishibashi.com
SUMMARY:初心者の為のワンコインヨガ体験会
DESCRIPTION:～初めてでも大丈夫！簡単な動きと呼吸から始めるやさしいyoga～\n体が硬いからヨガは無理かも。興味はあるけど・・・。難しいポーズはできれば避けたい。\nそんなあなたの為のヨガ体験会です。\n難しいポーズ無し。今の体に合わせて無理なく調整できるのに気づいたら、\n変わっていたとご好評のクラスになっています。運動不足の方にもおすすめです。お気軽にお越しください。 \n開催日時：1月28日(水)、30日(金)\n時間：10時、14時、19時\n※所要時間は約2時間\n会場名：イルチブレインヨガ石橋スタジオ\n会場住所：大阪府池田市石橋2-2-10　マキノビル2階\n参加費：1000円\nトレーナー：菊地靖子\n持ち物：動きやすい服装、タオル\n問合せ電話：072-762-7507 \n\nLINEからのお申し込みはこちら⇒https://lin.ee/aObW5QQ \n\n\n  \n\n\n\n\n\n \n体験ご希望日時\n		(必須)　※ご注意：月曜日は定休日です\n		\n \n—以下から選択してください—10111213141516171819時 —以下から選択してください—001020304050分 ～ のクラス\n \nお名前\n		 (必須)\n		\n \n\n \nメールアドレス\n		 (必須)\n		\n \n\n \nお電話番号（携帯可）\n		 (必須)\n		\n \n\n \nこちらのスタジオを何でお知りになりましたか？\n		 (必須)\n		\n \nチラシ看板書籍雑誌紹介Yahoo検索Google検索口コミその他Webサイト\n \nご関心があること、習得したいこと（複数可）\n \n自然治癒力アップ集中力アップダイエット体質改善ストレス緩和丹田強化呼吸法瞑想法リラックス運動不足解消姿勢がよくなりたいその他（備考欄にご記入ください）\n \n備考欄\n \n\n \n\n\n \n\n Δ \n\n\n\n株式会社DAHN WORLD JAPAN　ダンワールドジャパン
URL:https://ilchibrainyoga-ishibashi.com/event/ishibashi-65/
LOCATION:イルチブレインヨガ石橋スタジオ\, 大阪府池田市石橋 2丁目 2-10\, 牧野ビル2F\, 日本
CATEGORIES:体験会
ATTACH;FMTTYPE=image/jpeg:https://ilchibrainyoga-ishibashi.com/wp-content/uploads/2025/05/465800ff8627020f66b4721feb2eb795.jpg
END:VEVENT
BEGIN:VEVENT
DTSTART;TZID=Asia/Tokyo:20260130T100000
DTEND;TZID=Asia/Tokyo:20260130T210000
DTSTAMP:20260423T014406
CREATED:20251223T071724Z
LAST-MODIFIED:20251223T071724Z
UID:5407-1769767200-1769806800@ilchibrainyoga-ishibashi.com
SUMMARY:初心者の為のワンコインヨガ体験会
DESCRIPTION:～初めてでも大丈夫！簡単な動きと呼吸から始めるやさしいyoga～\n体が硬いからヨガは無理かも。興味はあるけど・・・。難しいポーズはできれば避けたい。\nそんなあなたの為のヨガ体験会です。\n難しいポーズ無し。今の体に合わせて無理なく調整できるのに気づいたら、\n変わっていたとご好評のクラスになっています。運動不足の方にもおすすめです。お気軽にお越しください。 \n開催日時：1月30日(金)\n時間：10時、14時、19時\n※所要時間は約2時間\n会場名：イルチブレインヨガ石橋スタジオ\n会場住所：大阪府池田市石橋2-2-10　マキノビル2階\n参加費：1000円\nトレーナー：菊地靖子\n持ち物：動きやすい服装、タオル\n問合せ電話：072-762-7507 \n\nLINEからのお申し込みはこちら⇒https://lin.ee/aObW5QQ \n\n\n  \n\n\n\n\n\n \n体験ご希望日時\n		(必須)　※ご注意：月曜日は定休日です\n		\n \n—以下から選択してください—10111213141516171819時 —以下から選択してください—001020304050分 ～ のクラス\n \nお名前\n		 (必須)\n		\n \n\n \nメールアドレス\n		 (必須)\n		\n \n\n \nお電話番号（携帯可）\n		 (必須)\n		\n \n\n \nこちらのスタジオを何でお知りになりましたか？\n		 (必須)\n		\n \nチラシ看板書籍雑誌紹介Yahoo検索Google検索口コミその他Webサイト\n \nご関心があること、習得したいこと（複数可）\n \n自然治癒力アップ集中力アップダイエット体質改善ストレス緩和丹田強化呼吸法瞑想法リラックス運動不足解消姿勢がよくなりたいその他（備考欄にご記入ください）\n \n備考欄\n \n\n \n\n\n \n\n Δ \n\n\n\n株式会社DAHN WORLD JAPAN　ダンワールドジャパン
URL:https://ilchibrainyoga-ishibashi.com/event/ishibashi-66/
LOCATION:イルチブレインヨガ石橋スタジオ\, 大阪府池田市石橋 2丁目 2-10\, 牧野ビル2F\, 日本
CATEGORIES:体験会
ATTACH;FMTTYPE=image/jpeg:https://ilchibrainyoga-ishibashi.com/wp-content/uploads/2025/05/465800ff8627020f66b4721feb2eb795.jpg
END:VEVENT
END:VCALENDAR